BEGIN:VCALENDAR
VERSION:2.0
PRODID:-//hacksw/handcal//NONSGML v1.0//EN
CALSCALE:GREGORIAN
BEGIN:VTIMEZONE
TZID:America/Detroit
BEGIN:DAYLIGHT
TZOFFSETFROM:-0600
TZNAME:MDT
TZOFFSETTO:-0600
END:DAYLIGHT
END:VTIMEZONE
DTSTAMP:20260419T090124Z
UID:69e4d2246be32
BEGIN:VEVENT
LOCATION:Lenawee District Library - Main Branch, 4459 W US Highway 223, Adrian, MI US 49221
DESCRIPTION:<p>Join the Imagination Station at the library as they demonstrate different science-based experiments.</p>

<p>All ages welcome.</p>

DTSTART;TZID=America/Detroit:20240710T140000
DTEND;TZID=America/Detroit:20240710T150000
SUMMARY:Main Wow! Wednesday: Imagination Station Extreme Science
URL;VALUE=URI:/main-wow-wednesday-imagination-station-extreme-science-0
END:VEVENT
END:VCALENDAR