BEGIN:VCALENDAR
VERSION:2.0
PRODID:-//hacksw/handcal//NONSGML v1.0//EN
CALSCALE:GREGORIAN
BEGIN:VTIMEZONE
TZID:America/Detroit
BEGIN:DAYLIGHT
TZOFFSETFROM:-0600
TZNAME:MDT
TZOFFSETTO:-0600
END:DAYLIGHT
END:VTIMEZONE
DTSTAMP:20260424T081540Z
UID:69eb5eec0f76e
BEGIN:VEVENT
DESCRIPTION:<p>Come out to the park for an up-close look at some awesome animals with Cuellar's Critters</p>

<p>All ages welcome</p>

DTSTART;TZID=America/Detroit:20240726T130000
DTEND;TZID=America/Detroit:20240726T140000
SUMMARY:Cuellar's Critters @ Britton Village Park
URL;VALUE=URI:/cuellars-critters-britton-village-park-0
END:VEVENT
END:VCALENDAR