BEGIN:VCALENDAR
VERSION:2.0
PRODID:-//hacksw/handcal//NONSGML v1.0//EN
CALSCALE:GREGORIAN
BEGIN:VTIMEZONE
TZID:America/Detroit
BEGIN:DAYLIGHT
TZOFFSETFROM:-0600
TZNAME:MDT
TZOFFSETTO:-0600
END:DAYLIGHT
END:VTIMEZONE
DTSTAMP:20260424T231539Z
UID:69ec31dbc0da5
BEGIN:VEVENT
LOCATION:Lenawee District Library - Main Branch, 4459 W US Highway 223, Adrian, MI US 49221
DESCRIPTION:<p>If you're someone who loves weaving baskets, then join our monthly weavers group! Bring your project and engage in uplifting converstaions, learn new tips and tricks, and connect with others.</p>

DTSTART;TZID=America/Detroit:20260411T100000
DTEND;TZID=America/Detroit:20260411T140000
SUMMARY:Main Weavers Group
URL;VALUE=URI:/main-weavers-group-42
END:VEVENT
END:VCALENDAR